BEGIN:VCALENDAR
VERSION:2.0
PRODID:-//eventon.com NONSGML v1.0//EN
CALSCALE:GREGORIAN
METHOD:PUBLISH
BEGIN:VEVENT
UID:69e8a4b1e73e8
DTSTAMP:20260422T103633Z
DTSTART:20260520T212500Z
DTEND:20260520T212500Z
LOCATION:
SUMMARY:Anfängerkurs Schach
DESCRIPTION:Anfängerkurs Schach\nhttps://grundschule-hochbrueck.de/events/
 anfaengerkurs-schach-4/
URL:https://grundschule-hochbrueck.de/events/anfaengerkurs-schach-4/
END:VEVENT
END:VCALENDAR