BEGIN:VCALENDAR
VERSION:2.0
PRODID:-//eventon.com NONSGML v1.0//EN
CALSCALE:GREGORIAN
METHOD:PUBLISH
BEGIN:VEVENT
UID:69e8983b1831d
DTSTAMP:20260422T094323Z
DTSTART:20260513T212100Z
DTEND:20260513T212100Z
LOCATION:
SUMMARY:Anfängerkurs Schach
DESCRIPTION:Anfängerkurs Schach\nhttps://grundschule-hochbrueck.de/events/
 anfaengerkurs-schach-3/
URL:https://grundschule-hochbrueck.de/events/anfaengerkurs-schach-3/
END:VEVENT
END:VCALENDAR