BEGIN:VCALENDAR
VERSION:2.0
PRODID:-//eventon.com NONSGML v1.0//EN
CALSCALE:GREGORIAN
METHOD:PUBLISH
BEGIN:VEVENT
UID:69e889d2c3490
DTSTAMP:20260422T084154Z
DTSTART:20260506T211900Z
DTEND:20260506T211900Z
LOCATION:
SUMMARY:Anfängerkurs Schach
DESCRIPTION:Anfängerkurs Schach\nhttps://grundschule-hochbrueck.de/events/
 anfaengerkurs-schach-2/
URL:https://grundschule-hochbrueck.de/events/anfaengerkurs-schach-2/
END:VEVENT
END:VCALENDAR