BEGIN:VCALENDAR
VERSION:2.0
PRODID:-//eventon.com NONSGML v1.0//EN
CALSCALE:GREGORIAN
METHOD:PUBLISH
BEGIN:VEVENT
UID:69eb24819dd78
DTSTAMP:20260424T080625Z
DTSTART:20260430T200300Z
DTEND:20260430T200300Z
LOCATION:
SUMMARY:Fortgeschrittenenkurs Schach
DESCRIPTION:Fortgeschrittenenkurs Schach\nhttps://grundschule-hochbrueck.de
 /events/fortgeschrittenenkurs-schach/
URL:https://grundschule-hochbrueck.de/events/fortgeschrittenenkurs-schach/
END:VEVENT
END:VCALENDAR