BEGIN:VCALENDAR
VERSION:2.0
PRODID:-//eventon.com NONSGML v1.0//EN
CALSCALE:GREGORIAN
METHOD:PUBLISH
BEGIN:VEVENT
UID:69ea0b68227b0
DTSTAMP:20260423T120704Z
DTSTART:20260424T195800Z
DTEND:20260424T195800Z
LOCATION:
SUMMARY:7. Schulversammlung
DESCRIPTION:7. Schulversammlung\nhttps://grundschule-hochbrueck.de/events/7
 -schulversammlung-2/
URL:https://grundschule-hochbrueck.de/events/7-schulversammlung-2/
END:VEVENT
END:VCALENDAR