BEGIN:VCALENDAR
VERSION:2.0
PRODID:-//eventon.com NONSGML v1.0//EN
CALSCALE:GREGORIAN
METHOD:PUBLISH
BEGIN:VEVENT
UID:69e889c898f62
DTSTAMP:20260422T084144Z
DTSTART:20260421T195100Z
DTEND:20260421T195100Z
LOCATION:
SUMMARY:4. Lehrerkonferenz
DESCRIPTION:4. Lehrerkonferenz\nhttps://grundschule-hochbrueck.de/events/4-
 lehrerkonferenz/
URL:https://grundschule-hochbrueck.de/events/4-lehrerkonferenz/
END:VEVENT
END:VCALENDAR