BEGIN:VCALENDAR
VERSION:2.0
PRODID:-//eventon.com NONSGML v1.0//EN
CALSCALE:GREGORIAN
METHOD:PUBLISH
BEGIN:VEVENT
UID:69e8a4a7d8975
DTSTAMP:20260422T103623Z
DTSTART:20260515T112300Z
DTEND:20260515T182300Z
LOCATION:
SUMMARY:Spendenlauf
DESCRIPTION:Spendenlauf\nhttps://grundschule-hochbrueck.de/events/spendenla
 uf-3/
URL:https://grundschule-hochbrueck.de/events/spendenlauf-3/
END:VEVENT
END:VCALENDAR