BEGIN:VCALENDAR
VERSION:2.0
PRODID:-//eventon.com NONSGML v1.0//EN
CALSCALE:GREGORIAN
METHOD:PUBLISH
BEGIN:VEVENT
UID:69e8a399d63e0
DTSTAMP:20260422T103153Z
DTSTART:20260508T172000Z
DTEND:20260508T182000Z
LOCATION:
SUMMARY:8. Schulversammlung
DESCRIPTION:8. Schulversammlung\nhttps://grundschule-hochbrueck.de/events/8
 -schulversammlung/
URL:https://grundschule-hochbrueck.de/events/8-schulversammlung/
END:VEVENT
END:VCALENDAR