BEGIN:VCALENDAR
VERSION:2.0
PRODID:-//eventon.com NONSGML v1.0//EN
CALSCALE:GREGORIAN
METHOD:PUBLISH
BEGIN:VEVENT
UID:69e5e0b1c0de2
DTSTAMP:20260420T081545Z
DTSTART:20260424T120600Z
DTEND:20260508T170600Z
LOCATION:
SUMMARY:VERA 3 und OA 2
DESCRIPTION:VERA 3 und OA 2\nhttps://grundschule-hochbrueck.de/events/vera-
 3-und-oa-2/
URL:https://grundschule-hochbrueck.de/events/vera-3-und-oa-2/
END:VEVENT
END:VCALENDAR