BEGIN:VCALENDAR
VERSION:2.0
PRODID:-//eventon.com NONSGML v1.0//EN
CALSCALE:GREGORIAN
METHOD:PUBLISH
BEGIN:VEVENT
UID:69e74f6918fec
DTSTAMP:20260421T102025Z
DTSTART:20260330T151400Z
DTEND:20260412T151400Z
LOCATION:
SUMMARY:Osterferien
DESCRIPTION:Osterferien\nhttps://grundschule-hochbrueck.de/events/osterferi
 en/
URL:https://grundschule-hochbrueck.de/events/osterferien/
END:VEVENT
END:VCALENDAR