BEGIN:VCALENDAR
VERSION:2.0
PRODID:-//eventon.com NONSGML v1.0//EN
CALSCALE:GREGORIAN
METHOD:PUBLISH
BEGIN:VEVENT
UID:69e7378448486
DTSTAMP:20260421T083828Z
DTSTART:20260327T101000Z
DTEND:20260327T181000Z
LOCATION:
SUMMARY:7. Schulversammlung
DESCRIPTION:7. Schulversammlung\nhttps://grundschule-hochbrueck.de/events/7
 -schulversammlung/
URL:https://grundschule-hochbrueck.de/events/7-schulversammlung/
END:VEVENT
END:VCALENDAR