BEGIN:VCALENDAR
VERSION:2.0
PRODID:-//eventon.com NONSGML v1.0//EN
CALSCALE:GREGORIAN
METHOD:PUBLISH
BEGIN:VEVENT
UID:69e750dc9e998
DTSTAMP:20260421T102636Z
DTSTART:20260323T150000Z
DTEND:20260323T150000Z
LOCATION:
SUMMARY:5. Sitzung des Kinderparlaments
DESCRIPTION:5. Sitzung des Kinderparlaments\nhttps://grundschule-hochbrueck
 .de/events/5-sitzung-des-kinderparlaments/
URL:https://grundschule-hochbrueck.de/events/5-sitzung-des-kinderparlaments/
END:VEVENT
END:VCALENDAR