BEGIN:VCALENDAR
VERSION:2.0
PRODID:-//eventon.com NONSGML v1.0//EN
CALSCALE:GREGORIAN
METHOD:PUBLISH
BEGIN:VEVENT
UID:69e74f8868b6b
DTSTAMP:20260421T102056Z
DTSTART:20260319T150000Z
DTEND:20260319T185700Z
LOCATION:
SUMMARY:Voraussichtl. Letzter Schachtermin
DESCRIPTION:Voraussichtl. Letzter Schachtermin\nhttps://grundschule-hochbru
 eck.de/events/voraussichtl-letzter-schachtermin/
URL:https://grundschule-hochbrueck.de/events/voraussichtl-letzter-schachtermin/
END:VEVENT
END:VCALENDAR