BEGIN:VCALENDAR
VERSION:2.0
PRODID:-//eventon.com NONSGML v1.0//EN
CALSCALE:GREGORIAN
METHOD:PUBLISH
BEGIN:VEVENT
UID:69e5e29e7bd74
DTSTAMP:20260420T082358Z
DTSTART:20240716T092100Z
DTEND:20240716T232100Z
LOCATION:
SUMMARY:Bundesjugendspiele 1. und 2. Klasse
DESCRIPTION:Bundesjugendspiele 1. und 2. Klasse\nhttps://grundschule-hochbr
 ueck.de/events/bundesjugendspiele-1-und-2-klasse/
URL:https://grundschule-hochbrueck.de/events/bundesjugendspiele-1-und-2-klasse/
END:VEVENT
END:VCALENDAR